BEGIN:VCALENDAR
VERSION:2.0
PRODID:-//wp-events-plugin.com//7.2.3.1//EN
TZID:Europe/Berlin
X-WR-TIMEZONE:Europe/Berlin
BEGIN:VEVENT
UID:0-201@waldritter.de
DTSTART;TZID=Europe/Berlin;VALUE=DATE:20250124
DTEND;TZID=Europe/Berlin;VALUE=DATE:20250127
DTSTAMP:20241219T105524Z
URL:https://www.waldritter.de/events/empowerment-fuer-queere-jugendliche/
SUMMARY:Empowerment für queere Jugendliche
DESCRIPTION:Die Seminarreihe bietet einen geschützten Raum für Jugendlich
 e im Alter ab 14 Jahren\, in dem die Teilnehmenden lernen\, sich gegen Dis
 kriminierung zu wehren und über ihre Rechte aufgeklärt werden. Dies leis
 tet einen wichtigen Beitrag zur Prävention von Diskriminierung und Hasskr
 iminalität\, was in vielerlei Hinsicht ein politisches Ziel darstellt. Di
 e Seminare werden in Form von Workshops und Diskussionsrunden durchgeführ
 t\, um den Teilnehmenden die Möglichkeit zu geben\, sich aktiv einzubring
 en. Zusätzlich werden zukünftig externe Expert*innen eingeladen\, um den
  Jugendlichen weitere fundierte Informationen und Beratung anzubieten. 
ATTACH;FMTTYPE=image/jpeg:https://www.waldritter.de/wp-content/uploads/202
 4/12/queer.png
CATEGORIES:Seminar
LOCATION:Waldritter Kreativ.Campus Herten\, Ewaldstr. 16\, Herten\, Nordrhe
 in-Westfalen\, 45699\, Deutschland
X-APPLE-STRUCTURED-LOCATION;VALUE=URI;X-ADDRESS=Ewaldstr. 16\, Herten\, Nor
 drhein-Westfalen\, 45699\, Deutschland;X-APPLE-RADIUS=100;X-TITLE=Waldritt
 er Kreativ.Campus Herten:geo:0,0
END:VEVENT
BEGIN:VTIMEZONE
TZID:Europe/Berlin
X-LIC-LOCATION:Europe/Berlin
BEGIN:STANDARD
DTSTART:20241027T020000
TZOFFSETFROM:+0200
TZOFFSETTO:+0100
TZNAME:CET
END:STANDARD
END:VTIMEZONE
END:VCALENDAR