BEGIN:VCALENDAR
VERSION:2.0
PRODID:-//wp-events-plugin.com//7.2.3.1//EN
TZID:Europe/Berlin
X-WR-TIMEZONE:Europe/Berlin
BEGIN:VEVENT
UID:0-3@waldritter.de
DTSTART;TZID=Europe/Berlin:20221112T100000
DTEND;TZID=Europe/Berlin:20221112T160000
DTSTAMP:20221028T104126Z
URL:https://www.waldritter.de/events/liverollenspiel-am-kloster-arnsburg-3
 5423/
SUMMARY:Liverollenspiel am Kloster Arnsburg 35423
DESCRIPTION:Die Waldritter Gießen bietet dir ein phantastisches Erlebnis i
 n einer Welt voller Rätsel\, Kämpfe und Magie.\nWorkshop: Basteln\, Entw
 ickeln\, Schreiben\, Üben und vieles mehr.\n\n\nFür Kinder und Jugendlic
 he von 7 bis 17 Jahren\nKosten: 10 Euro\n(Polsterschwert und Tunika werden
  zur Verfügung gestellt)\n&nbsp\;\n\nWeitere Informationen &amp\; Anmeldu
 ng\n\nAnsprechpartner: Fabian Mares\nfabian.mares@waldritter.de \n\n&nbsp\
 ;
LOCATION:Kloster Arnsburg\, Kloster Arnsburg\, Bursenbau\, Lich\, Hessen\, 
 35423 \, Deutschland
X-APPLE-STRUCTURED-LOCATION;VALUE=URI;X-ADDRESS=Kloster Arnsburg\, Bursenba
 u\, Lich\, Hessen\, 35423 \, Deutschland;X-APPLE-RADIUS=100;X-TITLE=Kloste
 r Arnsburg:geo:0,0
END:VEVENT
BEGIN:VTIMEZONE
TZID:Europe/Berlin
X-LIC-LOCATION:Europe/Berlin
BEGIN:STANDARD
DTSTART:20221030T020000
TZOFFSETFROM:+0200
TZOFFSETTO:+0100
TZNAME:CET
END:STANDARD
END:VTIMEZONE
END:VCALENDAR