BEGIN:VCALENDAR
VERSION:2.0
PRODID:-//wp-events-plugin.com//7.2.3.1//EN
TZID:Europe/Berlin
X-WR-TIMEZONE:Europe/Berlin
BEGIN:VEVENT
UID:0-231@waldritter.de
DTSTART;TZID=Europe/Berlin:20260516T100000
DTEND;TZID=Europe/Berlin:20260517T183000
DTSTAMP:20260417T161611Z
URL:https://www.waldritter.de/events/macht-strategie-gesellschaft-politik-
 im-brettspiel/
SUMMARY:Macht\, Strategie &amp\; Gesellschaft – Politik im Brettspiel
DESCRIPTION:Brettspiele sind mehr als Unterhaltung – sie bilden Gesellsch
 aft ab\, transportieren Werte und prägen\, wie wir über Konkurrenz\, Koo
 peration und Macht denken. Der zweitägige Workshop an der Schnittstelle v
 on Spielkultur und politischer Reflexion richtet sich an politisch interes
 sierte Jugendliche und Erwachsene ab 16 Jahren. In diesem Workshop spielen
  wir ausgewählte Spiele gemeinsam\, zerlegen ihre Mechaniken und fragen: 
 Welche Weltbilder stecken darin? Wer hat sie warum entwickelt? Und was sag
 t das über uns als Gesellschaft?\nProgramm\nTag 1 – Einstieg\, Analyse 
 &amp\; erste Spielpraxis\n10:00 – 10:30 | Begrüßung\, Kennenlernen\, E
 rwartungen\n10:30 – 12:30 | Praxis-Input I: Spielen &amp\; Erleben\n12:3
 0 – 13:30 | Mittagspause\n13:30 – 15:00 | Auswertung I: Was passiert i
 m Spiel?\n15:00 – 15:15 | Pause\n15:15 – 17:30 | Praxis-Input II: Spie
 lmechaniken &amp\; Weltbilder\n17:30 – 18:30 | Tagesreflexion &amp\; Aus
 blick\n&nbsp\;\nTag 2 – Vertiefung &amp\; Transfer\n10:00 – 10:30 | Be
 grüßung &amp\; Warm-Up\n10:30 – 12:30 | Praxis-Input III: Macht\, Stra
 tegie &amp\; Ideologie\n12:30 – 13:30 | Mittagspause\n13:30 – 15:30 | 
 Fortführung des Praxis-Input III: Macht\, Strategie &amp\; Ideologie\n15:
 30 – 17:30 | Auswertung III: Vom Spiel zur Gesellschaft\n17:30 – 18:30
  | Abschlussrunde &amp\; Feedback\n&nbsp\;\n\nSeminarleitung: Dirk Springe
 nberg\n\nTeilnahmebeitrag: 13 €\n\nAnmeldung per E-Mail an: dirk.springe
 nberg@waldritter.de
LOCATION:Portal\, Obermünsterstr. 15\, Regensburg\, Bayern\, 93047\, Deuts
 chland
X-APPLE-STRUCTURED-LOCATION;VALUE=URI;X-ADDRESS=Obermünsterstr. 15\, Regen
 sburg\, Bayern\, 93047\, Deutschland;X-APPLE-RADIUS=100;X-TITLE=Portal:geo
 :0,0
END:VEVENT
BEGIN:VTIMEZONE
TZID:Europe/Berlin
X-LIC-LOCATION:Europe/Berlin
BEGIN:DAYLIGHT
DTSTART:20260329T030000
TZOFFSETFROM:+0100
TZOFFSETTO:+0200
TZNAME:CEST
END:DAYLIGHT
END:VTIMEZONE
END:VCALENDAR