BEGIN:VCALENDAR
VERSION:2.0
PRODID:-//wp-events-plugin.com//7.2.3.1//EN
TZID:Europe/Berlin
X-WR-TIMEZONE:Europe/Berlin
BEGIN:VEVENT
UID:0-156@waldritter.de
DTSTART;TZID=Europe/Berlin;VALUE=DATE:20240112
DTEND;TZID=Europe/Berlin;VALUE=DATE:20240115
DTSTAMP:20231206T075838Z
URL:https://www.waldritter.de/events/space-heroes/
SUMMARY:Space Heroes
DESCRIPTION:Space Heroes- Ein Liverollenspiel für Kinder
ATTACH;FMTTYPE=image/jpeg:https://www.waldritter.de/wp-content/uploads/202
 3/11/space-hereos_beitrag-1.jpg
CATEGORIES:Kinder und Jugendliche,Larp
LOCATION:Waldritter Kreativ.Campus Herten\, Ewaldstr. 16\, Herten\, Nordrhe
 in-Westfalen\, 45699\, Deutschland
X-APPLE-STRUCTURED-LOCATION;VALUE=URI;X-ADDRESS=Ewaldstr. 16\, Herten\, Nor
 drhein-Westfalen\, 45699\, Deutschland;X-APPLE-RADIUS=100;X-TITLE=Waldritt
 er Kreativ.Campus Herten:geo:0,0
END:VEVENT
BEGIN:VTIMEZONE
TZID:Europe/Berlin
X-LIC-LOCATION:Europe/Berlin
BEGIN:STANDARD
DTSTART:20231029T020000
TZOFFSETFROM:+0200
TZOFFSETTO:+0100
TZNAME:CET
END:STANDARD
END:VTIMEZONE
END:VCALENDAR