BEGIN:VCALENDAR
VERSION:2.0
PRODID:-//wp-events-plugin.com//7.2.3.1//EN
TZID:Europe/Berlin
X-WR-TIMEZONE:Europe/Berlin
BEGIN:VEVENT
UID:0-232@waldritter.de
DTSTART;TZID=Europe/Berlin:20260523T100000
DTEND;TZID=Europe/Berlin:20260524T183000
DTSTAMP:20260417T162300Z
URL:https://www.waldritter.de/events/von-der-idee-zum-spiel-grundlagen-der
 -spieleentwicklung-in-der-politischen-bildung/
SUMMARY:Von der Idee zum Spiel - Grundlagen der Spieleentwicklung in der po
 litischen Bildung
DESCRIPTION:Ein zweitägiger Workshop für alle\, die schon immer wissen wo
 llten\, wie ein Spiel wirklich entsteht.\n\nHinter jedem guten Spiel steck
 t weit mehr als Glück und eine zündende Idee: durchdachte Mechaniken\, k
 lare Zielgruppenorientierung\, iterative Entwicklungsprozesse und kontinui
 erliches Testen. Spiele sind gestaltete Systeme – und genau darin liegt 
 ihr Potenzial für politische Bildung: Sie machen komplexe Zusammenhänge 
 erfahrbar\, ermöglichen Perspektivwechsel und laden zur aktiven Auseinand
 ersetzung mit gesellschaftlichen Fragen ein.\n\nIn diesem zweitägigen Wor
 kshop tauchen die Teilnehmenden praxisnah in die Welt der Spieleentwicklun
 g ein. Ausgehend von der Analyse bestehender Brettspiele untersuchen wir z
 entrale Elemente wie Spielmechaniken\, Interaktionsformen\, Zielsysteme un
 d narrative Rahmungen. Dabei fragen wir gezielt: Welche politischen und ge
 sellschaftlichen Annahmen stecken in Spielen? Welche Werte werden transpor
 tiert – bewusst oder unbewusst?\n\nAuf dieser Grundlage entwickeln die T
 eilnehmenden eigene Spielideen. Schritt für Schritt entstehen aus ersten 
 Konzeptskizzen konkrete Spielentwürfe: von der Definition einer Zielgrupp
 e über die Entwicklung zentraler Mechaniken bis hin zu ersten Prototypen.
  In iterativen Testphasen werden diese Entwürfe erprobt\, reflektiert und
  weiterentwickelt.\n\nDer Workshop verbindet kreative Gestaltung mit analy
 tischer Reflexion. Ziel ist es\, die Teilnehmenden zu befähigen\, Spiele 
 nicht nur zu verstehen\, sondern selbst als Werkzeug politischer Bildung e
 inzusetzen – sei es in der Jugendarbeit\, in Bildungsprojekten oder im e
 igenen Engagement.\n\nIm Mittelpunkt stehen dabei:\n\n 	die Vermittlung gr
 undlegender Methoden der Spieleentwicklung \n 	die kritische Analyse von 
 Spielen als gesellschaftliche Modelle \n 	die Entwicklung eigener spielba
 sierter Bildungsansätze \n 	die Stärkung von Gestaltungskompetenz und S
 elbstwirksamkeit \n\nDer Workshop richtet sich an politisch interessierte
  Jugendliche und Erwachsene ab 16 Jahren sowie an Multiplikator:innen aus 
 Bildung\, Jugendarbeit und Kultur\, die neue\, kreative Zugänge zu politi
 schen Themen suchen.\n\n&nbsp\;\nProgramm\nTag 1 - Einstieg\, Analyse &amp
 \; erste Konzeptentwicklung\n10:00 – 10:30 | Begrüßung\, Kennenlernen\
 , Erwartungen\n10:30 – 12:30 | Praxis-Input I: Spiele verstehen – Was 
 macht ein Spiel aus?\n12:30 – 13:30 | Mittagspause\n13:30 – 15:00 | Au
 swertung I: Wie funktionieren Spiele?\n15:00 – 15:15 | Pause\n15:15 – 
 17:30 | Praxis-Input II: Von der Idee zum Konzept\n17:30 – 18:30 | Tages
 reflexion &amp\; Ausblick\nTag 2 – Prototyping\, Testen &amp\; Weiterent
 wicklung\n10:00 – 10:30 | Begrüßung &amp\; Warm-Up\n10:30 – 12:30 | 
 Praxis-Input III: Prototypen entwickeln\n12:30 – 13:30 | Mittagspause\n1
 3:30 – 15:30 | Fortführung Praxis-Input III: Prototypen entwickeln &amp
 \; testen\n15:30 – 17:30 | Auswertung III: Was macht ein gutes Spiel aus
 ?\n17:30 – 18:30 | Abschlussrunde &amp\; Feedback\n&nbsp\;\n\nSeminarlei
 tung: Dirk Springenberg\n\nTeilnahmebeitrag: 13 €\n\nAnmeldung per E-Mai
 l an: dirk.springenberg@waldritter.de
LOCATION:Portal\, Obermünsterstr. 15\, Regensburg\, Bayern\, 93047\, Deuts
 chland
X-APPLE-STRUCTURED-LOCATION;VALUE=URI;X-ADDRESS=Obermünsterstr. 15\, Regen
 sburg\, Bayern\, 93047\, Deutschland;X-APPLE-RADIUS=100;X-TITLE=Portal:geo
 :0,0
END:VEVENT
BEGIN:VTIMEZONE
TZID:Europe/Berlin
X-LIC-LOCATION:Europe/Berlin
BEGIN:DAYLIGHT
DTSTART:20260329T030000
TZOFFSETFROM:+0100
TZOFFSETTO:+0200
TZNAME:CEST
END:DAYLIGHT
END:VTIMEZONE
END:VCALENDAR